BEGIN:VCALENDAR
VERSION:2.0
BEGIN:VEVENT
DTSTART;TZID=Europe/Stockholm:20250331T100000
DTEND;TZID=Europe/Stockholm:20250331T110000
DTSTAMP:20260423T120113
DESCRIPTION:
SEQUENCE:0
SUMMARY:MÅNDAGSCAFÉ
UID:7759@lawebb.se
END:VEVENT
END:VCALENDAR